BEGIN:VCALENDAR
VERSION:2.0
PRODID:-//OTKM Stuttgart - ECPv6.15.20//NONSGML v1.0//EN
CALSCALE:GREGORIAN
METHOD:PUBLISH
X-ORIGINAL-URL:https://otkm-stuttgart.org
X-WR-CALDESC:Veranstaltungen für OTKM Stuttgart
REFRESH-INTERVAL;VALUE=DURATION:PT1H
X-Robots-Tag:noindex
X-PUBLISHED-TTL:PT1H
BEGIN:VTIMEZONE
TZID:Europe/Berlin
BEGIN:DAYLIGHT
TZOFFSETFROM:+0100
TZOFFSETTO:+0200
TZNAME:CEST
DTSTART:20240331T010000
END:DAYLIGHT
BEGIN:STANDARD
TZOFFSETFROM:+0200
TZOFFSETTO:+0100
TZNAME:CET
DTSTART:20241027T010000
END:STANDARD
BEGIN:DAYLIGHT
TZOFFSETFROM:+0100
TZOFFSETTO:+0200
TZNAME:CEST
DTSTART:20250330T010000
END:DAYLIGHT
BEGIN:STANDARD
TZOFFSETFROM:+0200
TZOFFSETTO:+0100
TZNAME:CET
DTSTART:20251026T010000
END:STANDARD
BEGIN:DAYLIGHT
TZOFFSETFROM:+0100
TZOFFSETTO:+0200
TZNAME:CEST
DTSTART:20260329T010000
END:DAYLIGHT
BEGIN:STANDARD
TZOFFSETFROM:+0200
TZOFFSETTO:+0100
TZNAME:CET
DTSTART:20261025T010000
END:STANDARD
END:VTIMEZONE
BEGIN:VEVENT
DTSTART;TZID=Europe/Berlin:20250319T180000
DTEND;TZID=Europe/Berlin:20250319T190000
DTSTAMP:20260423T221009
CREATED:20250315T213452Z
LAST-MODIFIED:20250315T213452Z
UID:8463-1742407200-1742410800@otkm-stuttgart.org
SUMMARY:Nein zu Krieg & Aufrüstung! Kundgebung gegen das Aufrüstungspaket
DESCRIPTION:Die Kriegsvorbereitungen des deutschen Kapitals gehen weiter. Noch vor dem Zusammentreten der neuen Regierung soll ein noch nie da gewesenes Aufrüstungspaket beschlossen werden. Dagegen gilt es Widerstand zu leisten!  \nAm 18. März soll das Paket beschlossen werden – Am 19. März werden wir dagegen auf die Straße gehen! \n500 Milliarden Sondervermögen für Infrastruktur und eine Aufhebung der Schuldenbremse für die Bundeswehr und Aufrüstung. Zusammengerechnet soll das Aufrüstungpaket rund 1 Billionen Euro Umfassen. Zur Verdeutlichung: 1.000.000.000.000 so sieht diese Zahl ausgeschrieben aus.  \nDie Grünen beteiligten sich natürlich nur unter „Bauchschmerzen“\, nachdem Teile des Infrastrukturpakets auch für den Klimaschutz investiert werden sollen. \n500 Milliarden für die Infrastruktur. Das klingt doch gut? \nWas vielleicht erstmal vernünftig klingt\, ist nichts anderes als Teil der Aufrüstung. Beispielsweise sollen Brücken für Panzer ausgebaut werden. \nDie marode Infrastruktur soll nicht verbessert werden um unserer Klasse etwas Gutes zu tun. Wer Krieg führen möchte braucht funktionierende Schienennetze\, stabile Straßen etc. hierbei wird die militärische vor der zivilen Infrastruktur stehen.  \nAufhebung der Schuldenbremse \nDurch die Aufhebung der Schuldenbremse werden Militärausgaben die 1% des Bruttoinlandsproduktes übersteigen möglich gemacht. Der aktuell diskutierte Vorschlag sieht vor\, dass es nach oben keine Grenze geben soll.  \nProfitieren wird davon die Rüstungsindustrie und der Militarismus im allgemeinen. \nWer soll das alles bezahlen? \nDie Kosten für die Aufrüstung werden wir alle tragen müssen! \nDie Herrschenden wissen auch schon wo sie sparen können: Bei Gesundheit und sozialem. Was aktuell schon im Raum steht sind eine Erhöhung des Renteneintrittalters und Einschnitte bei Gesundheitsleistungen. Für die Kriege der Herrschenden soll also natürlich die Arbeiter:innenklasse die Zeche zahlen. Auf uns werden Sozialabbau und Kürzungen zukommen\, während die Rüstungsindustrie sich ihre Taschen füllt.  \nWas bedeutet das? \nWir stehen vor Zeiten weltweiten Umbruchs. Überall auf der Welt flammen neue Kriege auf und die Neuaufteilung der Welt wird zwischen den Big Playern USA\, China und co. verhandelt. Auch Deutschland und die EU wollen als Teil der NATO ein Stück vom Kuchen abhaben und bringen sich strategisch für die kommenden Kriege und Auseinandersetzungen in Stellung.  \nDabei geht es nicht um die Verteidigung von Demokratie & Menschenrechten\, sondern um Profitinteressen und Vormachtstellungen. Profitieren werden davon nur die Reichen –  Wir\,die Arbeiter:innenklasse werden weiter ausgebeutet und auf den Kriegsfeldern als Kanonenfutter benutzt. \n\nWhatever it takes!\nEs ist jetzt an der Zeit\, dass wir handeln! Den Kriegsvorbereitungen auf unserem Rücken müssen wir entgegentreten!  \n\nFür ein sofortiges Ende der Aufrüstung &  aller Waffenlieferungen!\nWir stellen uns entschlossen gegen das Wettrüsten & die Kriegspropaganda!\nSchluss mit dem Sozialabbau!\nWir kämpfen für eine solidarische Gesellschaft jenseits von Ausbeutung und Unterdrückung\n\nGerade jetzt ist ein wichtiger Moment um antimilitaristisch Aktiv zu werden! Schließt euch antimilitaristischen Initativen an\, macht in euren Betrieben auf den Kriegskurs der Herrschenden aufmerksam\, Protestiert gegen die Rüstungsindustrie und Bundeswehr. \nWhatever it takes – den deutschen Kriegskurs stoppen!  \nKUNDGEBUNG: Mittwoch\, 19.03.25 // 18 Uhr // Schlossplatz
URL:https://otkm-stuttgart.org/termin/nein-zu-krieg-aufruestung-kundgebung-gegen-das-aufruestungspaket/
LOCATION:Schlossplatz\, Schlossplatz\, Stuttgart\, Deutschland
ATTACH;FMTTYPE=image/png:https://otkm-stuttgart.org/wp-content/uploads/2025/03/Sharepic-Aufruestungspaket.png
END:VEVENT
END:VCALENDAR